BEGIN:VCALENDAR
VERSION:2.0
PRODID:-//The Family of Saint Sharbel Ireland - ECPv6.15.20//NONSGML v1.0//EN
CALSCALE:GREGORIAN
METHOD:PUBLISH
X-WR-CALNAME:The Family of Saint Sharbel Ireland
X-ORIGINAL-URL:https://familyofsaintsharbelireland.com
X-WR-CALDESC:Events for The Family of Saint Sharbel Ireland
REFRESH-INTERVAL;VALUE=DURATION:PT1H
X-Robots-Tag:noindex
X-PUBLISHED-TTL:PT1H
BEGIN:VTIMEZONE
TZID:Europe/Dublin
BEGIN:DAYLIGHT
TZOFFSETFROM:+0000
TZOFFSETTO:+0100
TZNAME:IST
DTSTART:20240331T010000
END:DAYLIGHT
BEGIN:STANDARD
TZOFFSETFROM:+0100
TZOFFSETTO:+0000
TZNAME:GMT
DTSTART:20241027T010000
END:STANDARD
BEGIN:DAYLIGHT
TZOFFSETFROM:+0000
TZOFFSETTO:+0100
TZNAME:IST
DTSTART:20250330T010000
END:DAYLIGHT
BEGIN:STANDARD
TZOFFSETFROM:+0100
TZOFFSETTO:+0000
TZNAME:GMT
DTSTART:20251026T010000
END:STANDARD
BEGIN:DAYLIGHT
TZOFFSETFROM:+0000
TZOFFSETTO:+0100
TZNAME:IST
DTSTART:20260329T010000
END:DAYLIGHT
BEGIN:STANDARD
TZOFFSETFROM:+0100
TZOFFSETTO:+0000
TZNAME:GMT
DTSTART:20261025T010000
END:STANDARD
END:VTIMEZONE
BEGIN:VEVENT
DTSTART;TZID=Europe/Dublin:20250711T170000
DTEND;TZID=Europe/Dublin:20250713T170000
DTSTAMP:20260423T144606
CREATED:20250409T142848Z
LAST-MODIFIED:20250421T234536Z
UID:140-1752253200-1752426000@familyofsaintsharbelireland.com
SUMMARY:2025 Saint Sharbel Conference
DESCRIPTION:  \nJoin us for a historic weekend of prayer\, healing\, and encounter at the first-ever Saint Sharbel Conference in Ireland. This powerful three-day event will gather faithful from across Ireland and the UK to experience the richness of Maronite spirituality and the living witness of Saint Sharbel. \nEncounter over 100 sacred relics of saints\, pray with Maronite monks from Lebanon\, and participate in ancient liturgies chanted in Aramaic—the language of Christ. With inspiring talks\, Eucharistic adoration\, healing prayer\, and opportunities for spiritual renewal\, this is more than a conference—it’s a moment of grace for our nation.
URL:https://familyofsaintsharbelireland.com/event/2025-saint-sharbel-conference/
LOCATION:Saint Sharbel Conference 2025\, Railway Rd\, Meigh\, Newry\, BT35 8JT\, United Kingdom
END:VEVENT
END:VCALENDAR